BEGIN:VCALENDAR
VERSION:2.0
PRODID:icalendar-ruby
CALSCALE:GREGORIAN
METHOD:PUBLISH
BEGIN:VEVENT
DTSTAMP:20260424T092144Z
UID:18-377750@wccvt.org
DTSTART:20260826T220000Z
DTEND:20260826T230000Z
CLASS:PUBLIC
CREATED:20260423T222425
DESCRIPTION:
LAST-MODIFIED:20260423T222425
LOCATION:Williamstown Square\, Building B\, Williamstown\, VT 05679
SUMMARY:Mid-Week Recharge
URL;VALUE=URI:https://www.wccvt.org/events/mid-week-recharge/2026-08-26
END:VEVENT
END:VCALENDAR
