BEGIN:VCALENDAR
VERSION:2.0
PRODID:icalendar-ruby
CALSCALE:GREGORIAN
METHOD:PUBLISH
BEGIN:VEVENT
DTSTAMP:20260424T104032Z
UID:18-377751@wccvt.org
DTSTART:20260902T220000Z
DTEND:20260902T230000Z
CLASS:PUBLIC
CREATED:20260423T222425
DESCRIPTION:
LAST-MODIFIED:20260423T222425
LOCATION:Williamstown Square\, Building B\, Williamstown\, VT 05679
SUMMARY:Mid-Week Recharge
URL;VALUE=URI:https://www.wccvt.org/events/mid-week-recharge/2026-09-02
END:VEVENT
END:VCALENDAR
