BEGIN:VCALENDAR
VERSION:2.0
PRODID:icalendar-ruby
CALSCALE:GREGORIAN
METHOD:PUBLISH
BEGIN:VEVENT
DTSTAMP:20260424T115555Z
UID:18-378112@wccvt.org
DTSTART:20260909T220000Z
DTEND:20260909T230000Z
CLASS:PUBLIC
CREATED:20260424T075250
DESCRIPTION:
LAST-MODIFIED:20260424T075250
LOCATION:Williamstown Square\, Building B\, Williamstown\, VT 05679
SUMMARY:Mid-Week Recharge
URL;VALUE=URI:https://www.wccvt.org/events/mid-week-recharge/2026-09-09
END:VEVENT
END:VCALENDAR
