BEGIN:VCALENDAR
VERSION:2.0
PRODID:icalendar-ruby
CALSCALE:GREGORIAN
METHOD:PUBLISH
BEGIN:VEVENT
DTSTAMP:20260424T155216Z
UID:18-378475@wccvt.org
DTSTART:20260930T220000Z
DTEND:20260930T230000Z
CLASS:PUBLIC
CREATED:20260424T104609
DESCRIPTION:
LAST-MODIFIED:20260424T104609
LOCATION:Williamstown Square\, Building B\, Williamstown\, VT 05679
SUMMARY:Mid-Week Recharge
URL;VALUE=URI:https://www.wccvt.org/events/mid-week-recharge/2026-09-30
END:VEVENT
END:VCALENDAR
