BEGIN:VCALENDAR
VERSION:2.0
PRODID:icalendar-ruby
CALSCALE:GREGORIAN
METHOD:PUBLISH
BEGIN:VEVENT
DTSTAMP:20260424T214703Z
UID:18-379199@wccvt.org
DTSTART:20261028T220000Z
DTEND:20261028T230000Z
CLASS:PUBLIC
CREATED:20260424T162044
DESCRIPTION:
LAST-MODIFIED:20260424T162044
LOCATION:Williamstown Square\, Building B\, Williamstown\, VT 05679
SUMMARY:Mid-Week Recharge
URL;VALUE=URI:https://www.wccvt.org/events/mid-week-recharge/2026-10-28
END:VEVENT
END:VCALENDAR
